BEGIN:VCALENDAR
VERSION:2.0
PRODID:-//San Juan Citizens Alliance - ECPv6.15.20//NONSGML v1.0//EN
CALSCALE:GREGORIAN
METHOD:PUBLISH
X-ORIGINAL-URL:https://www.sanjuancitizens.org
X-WR-CALDESC:Events for San Juan Citizens Alliance
REFRESH-INTERVAL;VALUE=DURATION:PT1H
X-Robots-Tag:noindex
X-PUBLISHED-TTL:PT1H
BEGIN:VTIMEZONE
TZID:America/Denver
BEGIN:DAYLIGHT
TZOFFSETFROM:-0700
TZOFFSETTO:-0600
TZNAME:MDT
DTSTART:20190310T090000
END:DAYLIGHT
BEGIN:STANDARD
TZOFFSETFROM:-0600
TZOFFSETTO:-0700
TZNAME:MST
DTSTART:20191103T080000
END:STANDARD
BEGIN:DAYLIGHT
TZOFFSETFROM:-0700
TZOFFSETTO:-0600
TZNAME:MDT
DTSTART:20200308T090000
END:DAYLIGHT
BEGIN:STANDARD
TZOFFSETFROM:-0600
TZOFFSETTO:-0700
TZNAME:MST
DTSTART:20201101T080000
END:STANDARD
BEGIN:DAYLIGHT
TZOFFSETFROM:-0700
TZOFFSETTO:-0600
TZNAME:MDT
DTSTART:20210314T090000
END:DAYLIGHT
BEGIN:STANDARD
TZOFFSETFROM:-0600
TZOFFSETTO:-0700
TZNAME:MST
DTSTART:20211107T080000
END:STANDARD
END:VTIMEZONE
BEGIN:VEVENT
DTSTART;TZID=America/Denver:20200408T120000
DTEND;TZID=America/Denver:20200408T140000
DTSTAMP:20260422T031224
CREATED:20200403T021027Z
LAST-MODIFIED:20200403T021554Z
UID:17508-1586347200-1586354400@www.sanjuancitizens.org
SUMMARY:MSI Forest & Fire Learning Series- Resilience
DESCRIPTION:CULTIVATING RESILIENCE \nDiscover what we’ve learned about resilience since the 416 Fire and existing actions that contribute to community resilience with Dr. Lorraine Taylor (Assistant Professor of Management\, Fort Lewis College)\, Dr. Elizabeth Cartier (Assistant Professor of Management\, Fort Lewis College)\, and Imogen Ainsworth (Sustainability Coordinator\, City of Durango). \n  \n  \n\n  \n\n\n\n\n\n\n\nSince 2017\, the San Juan Mountains of Southwest Colorado have experienced exceptional drought and fire alongside record snowpack and swollen rivers. In response to community concerns regarding these climatic fluctuations across our landscape\, MSI and partners began the Forest & Fire Learning Series in spring of 2018. For the past two years\, this lecture series offered information and resources to how we\, as a community\, can better understand and approach local climatic changes using the best available science and landscape expertise to promote both ecological and community resilience. \nWhile 2020 may provide adequate snowpack and spring runoff\, there are many increasingly relevant conversations to address. One of these is the context of historical fire regimes – though 2020 may not prove to be an intense fire year\, impacts from climate change suggest that fire events with increased frequency will occur. As our community continues to experience the fluctuations in climatic extremes alongside the consequences of more than a century of wildfire suppression throughout the West\, we must discuss what it means to cultivate community resilience within the context of the forest ecology of the San Juan Mountains\, historical fire regimes\, and societal relationships to wildfire. Indeed\, the relationships and responses people have to wildfire can be complex and multi-faceted\, which is why MSI aims to include what varying areas of science\, such as ecology\, tourism\, and sociology\, have to say about fire\, forests\, communities\, and resilience. \nTo continue exploring these ideas\, MSI is preparing for its 3rd annual Forest & Fire Learning Series on it’s Facebook page with the intent to educate and engage our community in this time of social and physical distancing. The overarching theme of this series will be resilience: historical resilience to wildfire in our forests\, management techniques used to improve ecosystem and community resilience\, resilience and tourism\, and the importance of building a culture that accepts living with wildfire. Each evening will offer two livestream presentations followed by Q&A from viewers in Facebook.
URL:https://www.sanjuancitizens.org/event/msi-forest-fire-learning-series
LOCATION:CO
CATEGORIES:Climate Change,Events,Forest Health
ATTACH;FMTTYPE=image/png:https://www.sanjuancitizens.org/wp-content/uploads/2020/04/Screen-Shot-2020-04-02-at-2.08.13-PM.png
END:VEVENT
BEGIN:VEVENT
DTSTART;TZID=America/Denver:20200415T120000
DTEND;TZID=America/Denver:20200415T140000
DTSTAMP:20260422T031224
CREATED:20200403T021547Z
LAST-MODIFIED:20200403T021547Z
UID:17511-1586952000-1586959200@www.sanjuancitizens.org
SUMMARY:MSI Forest & Fire Learning Series- Moving Forward
DESCRIPTION:MOVING FORWARD \nLearn about the social implications of post-fire landscape recovery and La Plata County’s Community Planning Assistance for Wildfire (CPAW) with Dr. Chad Kooistra (Wildfire Management Research Project Lead\, Public Lands Policy Group\, Colorado State University) and Alison Layman (Planner I\, La Plata County). \n  \n\n  \nSince 2017\, the San Juan Mountains of Southwest Colorado have experienced exceptional drought and fire alongside record snowpack and swollen rivers. In response to community concerns regarding these climatic fluctuations across our landscape\, MSI and partners began the Forest & Fire Learning Series in spring of 2018. For the past two years\, this lecture series offered information and resources to how we\, as a community\, can better understand and approach local climatic changes using the best available science and landscape expertise to promote both ecological and community resilience. \nWhile 2020 may provide adequate snowpack and spring runoff\, there are many increasingly relevant conversations to address. One of these is the context of historical fire regimes – though 2020 may not prove to be an intense fire year\, impacts from climate change suggest that fire events with increased frequency will occur. As our community continues to experience the fluctuations in climatic extremes alongside the consequences of more than a century of wildfire suppression throughout the West\, we must discuss what it means to cultivate community resilience within the context of the forest ecology of the San Juan Mountains\, historical fire regimes\, and societal relationships to wildfire. Indeed\, the relationships and responses people have to wildfire can be complex and multi-faceted\, which is why MSI aims to include what varying areas of science\, such as ecology\, tourism\, and sociology\, have to say about fire\, forests\, communities\, and resilience. \nTo continue exploring these ideas\, MSI is preparing for its 3rd annual Forest & Fire Learning Series on it’s Facebook page with the intent to educate and engage our community in this time of social and physical distancing. The overarching theme of this series will be resilience: historical resilience to wildfire in our forests\, management techniques used to improve ecosystem and community resilience\, resilience and tourism\, and the importance of building a culture that accepts living with wildfire. Each evening will offer two livestream presentations followed by Q&A from viewers in Facebook.
URL:https://www.sanjuancitizens.org/event/msi-forest-fire-learning-series-moving-forward
LOCATION:CO
CATEGORIES:Climate Change,Events,Forest Health
ATTACH;FMTTYPE=image/png:https://www.sanjuancitizens.org/wp-content/uploads/2020/04/Screen-Shot-2020-04-02-at-2.08.13-PM.png
END:VEVENT
BEGIN:VEVENT
DTSTART;VALUE=DATE:20200417
DTEND;VALUE=DATE:20200427
DTSTAMP:20260422T031224
CREATED:20200422T002645Z
LAST-MODIFIED:20200422T002645Z
UID:17597-1587146400-1587923999@www.sanjuancitizens.org
SUMMARY:Earth Week Online
DESCRIPTION:You can check out all the online events on the City of Durango’s website or on the Online Earth Day Facebook page – found here! \nThe 50th Anniversary of Earth Day is on Wednesday\, April 22\, 2020\, and Durango is celebrating virtually from April 18 – 26 with a variety of family-friendly activities.  Join in the celebration! This year’s theme\, “Climate Action: Healthy Choices for a Healthy Planet\,” has taken on a whole new connotation as the novel coronavirus\, COVID-19\, has dramatically  impacted our daily routines. The City of Durango\, Citizens’ Climate Lobby\, the FLC Environmental Center\, the Good Food Collective\, the Unitarian Universalist Fellowship of Durango\, the Great Old Broads for Wilderness\, and Indivisible Durango have planned a mixture of educational\, inspiring\, and whimsical activities. Everyone can celebrate Earth Day while complying with the State of Colorado’s “Stay at Home” Order and physical distancing.  Virtual activities planned include \nA bingo game with a wide variety of activities to last the whole week — and beyond. Participants will be entered into a drawing for gift certificates to local businesses for turning in their completed bingo cards \nSpecial guest speakers sharing encouragement and insight in making a positive difference for our community and our world via YouTube.  Speakers include: \n\n\nG. Sam Foster\, retired Forestry Scientist and Research Director \n\n\nDean Brookie\, incoming Mayor of Durango \n\n\nDr. Heidi Steltzer\, FLC Professor of Environment\, Sustainability & Biology \n\n\nDarrin Parmenter\, La Plata County Director\, CSU Cooperative Extension \n\n\nMonique DiGiorgio and Taylor Hanson\, Managing Directors of Table to Farm Compost LLC \n\n\nRuby Hamilton\, 7th Grade Student\, Escalante Middle  School \n\n\nYou can check out all the online events on the City of Durango’s website or on the Online Earth Day Facebook page – found here!
URL:https://www.sanjuancitizens.org/event/earth-week-online
LOCATION:CO
CATEGORIES:Climate Change,Events,Lands Protection,Rivers
ATTACH;FMTTYPE=image/png:https://www.sanjuancitizens.org/wp-content/uploads/2020/04/pasted-image-0.png
END:VEVENT
END:VCALENDAR