BEGIN:VCALENDAR
VERSION:2.0
PRODID:-//San Juan Citizens Alliance - ECPv6.15.20//NONSGML v1.0//EN
CALSCALE:GREGORIAN
METHOD:PUBLISH
X-ORIGINAL-URL:https://www.sanjuancitizens.org
X-WR-CALDESC:Events for San Juan Citizens Alliance
REFRESH-INTERVAL;VALUE=DURATION:PT1H
X-Robots-Tag:noindex
X-PUBLISHED-TTL:PT1H
BEGIN:VTIMEZONE
TZID:America/Denver
BEGIN:DAYLIGHT
TZOFFSETFROM:-0700
TZOFFSETTO:-0600
TZNAME:MDT
DTSTART:20190310T090000
END:DAYLIGHT
BEGIN:STANDARD
TZOFFSETFROM:-0600
TZOFFSETTO:-0700
TZNAME:MST
DTSTART:20191103T080000
END:STANDARD
BEGIN:DAYLIGHT
TZOFFSETFROM:-0700
TZOFFSETTO:-0600
TZNAME:MDT
DTSTART:20200308T090000
END:DAYLIGHT
BEGIN:STANDARD
TZOFFSETFROM:-0600
TZOFFSETTO:-0700
TZNAME:MST
DTSTART:20201101T080000
END:STANDARD
BEGIN:DAYLIGHT
TZOFFSETFROM:-0700
TZOFFSETTO:-0600
TZNAME:MDT
DTSTART:20210314T090000
END:DAYLIGHT
BEGIN:STANDARD
TZOFFSETFROM:-0600
TZOFFSETTO:-0700
TZNAME:MST
DTSTART:20211107T080000
END:STANDARD
END:VTIMEZONE
BEGIN:VEVENT
DTSTART;TZID=America/Denver:20200923T120000
DTEND;TZID=America/Denver:20200923T130000
DTSTAMP:20260421T055255
CREATED:20200924T000514Z
LAST-MODIFIED:20200924T000514Z
UID:19290-1600862400-1600866000@www.sanjuancitizens.org
SUMMARY:State of Tri-State Webinar
DESCRIPTION:[vc_row type=”in_container” full_screen_row_position=”middle” scene_position=”center” text_color=”dark” text_align=”left” overlay_strength=”0.3″ shape_divider_position=”bottom”][vc_column column_padding=”no-extra-padding” column_padding_position=”all” background_color_opacity=”1″ background_hover_color_opacity=”1″ column_link_target=”_self” column_shadow=”none” column_border_radius=”none” width=”1/1″ tablet_width_inherit=”default” tablet_text_alignment=”default” phone_text_alignment=”default” column_border_width=”none” column_border_style=”solid”][vc_column_text]What happens at Tri-State determines the future of clean and local energy in our communities.  \nJoin us for a STATE OF TRI-STATE Special Briefing for a deep dive on what’s happening at rural Colorado’s biggest power supplier – and how you can make a difference.  \nRegister now for this special webinar briefing on Wednesday\, 9/23 @ 6PM    \nThe supplier to our rural electric co-ops\, called Tri-State\, has long been one of the dirtiest and most costly power suppliers in the country – bleeding tens of millions of dollars in excess costs from our communities to subsidize its coal-heavy portfolio. Tri-State’s behavior has often been the biggest barrier to a clean and local energy future in rural Colorado.  \nThanks to big victories won by people across Western states in the past year\, that’s changing.  \nOur electricity system is complicated\, and Tri-State is no exception. Join us for a deep dive on all you need to know to be a trusted and confident communicator in your community on: \n\nTri-State’s current energy portfolio and fiscal situation\nMovement priorities for Tri-State reform\n2019 internal reforms and historic state legislation won by this movement\nCoal community economic transition in Nucla and Craig\, where mines and power stations are closed or closing\nHow and why local co-ops have exited or seek to exit the Tri-State system\nThe federal and state regulatory battles underway now\n\n[/vc_column_text][divider line_type=”No Line”][nectar_btn size=”medium” open_new_tab=”true” button_style=”regular” button_color_2=”Accent-Color” icon_family=”none” url=”https://us02web.zoom.us/meeting/register/tZYlcOqvrj0tHtIwCp5P7glqCOi-S9Q9t2xA” text=”Register!”][image_with_animation image_url=”19292″ alignment=”” animation=”Fade In” border_radius=”none” box_shadow=”none” max_width=”100%”][/vc_column][/vc_row]
URL:https://www.sanjuancitizens.org/event/state-of-tri-state-webinar
LOCATION:CO
CATEGORIES:Climate Change,Events,LPEA
ATTACH;FMTTYPE=image/jpeg:https://www.sanjuancitizens.org/wp-content/uploads/2020/09/science-in-hd-yqEJ8HQ8y2o-unsplash-scaled.jpg
END:VEVENT
END:VCALENDAR