BEGIN:VCALENDAR
VERSION:2.0
PRODID:-//San Juan Citizens Alliance - ECPv6.15.20//NONSGML v1.0//EN
CALSCALE:GREGORIAN
METHOD:PUBLISH
X-ORIGINAL-URL:https://www.sanjuancitizens.org
X-WR-CALDESC:Events for San Juan Citizens Alliance
REFRESH-INTERVAL;VALUE=DURATION:PT1H
X-Robots-Tag:noindex
X-PUBLISHED-TTL:PT1H
BEGIN:VTIMEZONE
TZID:America/Denver
BEGIN:DAYLIGHT
TZOFFSETFROM:-0700
TZOFFSETTO:-0600
TZNAME:MDT
DTSTART:20200308T090000
END:DAYLIGHT
BEGIN:STANDARD
TZOFFSETFROM:-0600
TZOFFSETTO:-0700
TZNAME:MST
DTSTART:20201101T080000
END:STANDARD
BEGIN:DAYLIGHT
TZOFFSETFROM:-0700
TZOFFSETTO:-0600
TZNAME:MDT
DTSTART:20210314T090000
END:DAYLIGHT
BEGIN:STANDARD
TZOFFSETFROM:-0600
TZOFFSETTO:-0700
TZNAME:MST
DTSTART:20211107T080000
END:STANDARD
BEGIN:DAYLIGHT
TZOFFSETFROM:-0700
TZOFFSETTO:-0600
TZNAME:MDT
DTSTART:20220313T090000
END:DAYLIGHT
BEGIN:STANDARD
TZOFFSETFROM:-0600
TZOFFSETTO:-0700
TZNAME:MST
DTSTART:20221106T080000
END:STANDARD
BEGIN:DAYLIGHT
TZOFFSETFROM:-0700
TZOFFSETTO:-0600
TZNAME:MDT
DTSTART:20230312T090000
END:DAYLIGHT
BEGIN:STANDARD
TZOFFSETFROM:-0600
TZOFFSETTO:-0700
TZNAME:MST
DTSTART:20231105T080000
END:STANDARD
END:VTIMEZONE
BEGIN:VEVENT
DTSTART;TZID=America/Denver:20210211T110000
DTEND;TZID=America/Denver:20210211T120000
DTSTAMP:20260425T104006
CREATED:20210123T040348Z
LAST-MODIFIED:20210123T040348Z
UID:19849-1613041200-1613044800@www.sanjuancitizens.org
SUMMARY:Tri-State in 2021: What's Ahead for Rural Colorado's Energy Transition\, with Tri-State CEO Duane Highley
DESCRIPTION:[vc_row type=”in_container” full_screen_row_position=”middle” scene_position=”center” text_color=”dark” text_align=”left” overlay_strength=”0.3″ shape_divider_position=”bottom”][vc_column column_padding=”no-extra-padding” column_padding_position=”all” background_color_opacity=”1″ background_hover_color_opacity=”1″ column_link_target=”_self” column_shadow=”none” column_border_radius=”none” width=”1/1″ tablet_width_inherit=”default” tablet_text_alignment=”default” phone_text_alignment=”default” column_border_width=”none” column_border_style=”solid”][vc_column_text]If you live in Southwest Colorado\, your electricity comes from Tri-State Generation & Transmission. Tri-State is the electricity provider for 18 of Colorado’s rural electric co-ops\, including LPEA and EEA. What happens at Tri-State makes a transformative difference for the future of our economies\, pocketbooks\, and our access to the energy technologies of the future. \nIn 2020 Tri-State announced a vision to power its Colorado co-ops with more affordable\, clean energy by 2030\, and the next 10 years will be critical for making that vision a reality. \nPlease join Sierra Club\, Western Colorado Alliance\, San Juan Citizens Alliance\, Sheep Mountain Alliance and other local environmental groups across the state in welcoming Tri-State CEO Duane Highley\, who will be sharing with our members what’s ahead in 2021 and beyond for rural Colorado’s clean energy transition. \nFollowing Mr. Highley’s presentation\, there will be a question & answer session where attendees can ask questions. RSVP now to save your spot\, and we will follow up closer to the date of the event with a link for the virtual Zoom meeting![/vc_column_text][/vc_column][/vc_row][vc_row type=”in_container” full_screen_row_position=”middle” scene_position=”center” text_color=”dark” text_align=”left” overlay_strength=”0.3″ shape_divider_position=”bottom”][vc_column centered_text=”true” column_padding=”no-extra-padding” column_padding_position=”all” background_color_opacity=”1″ background_hover_color_opacity=”1″ column_link_target=”_self” column_shadow=”none” column_border_radius=”none” width=”1/1″ tablet_width_inherit=”default” tablet_text_alignment=”default” phone_text_alignment=”default” column_border_width=”none” column_border_style=”solid”][nectar_btn size=”large” open_new_tab=”true” button_style=”regular” button_color_2=”Accent-Color” icon_family=”none” url=”https://act.sierraclub.org/events/details?formcampaignid=7013q000001kkeeAAA&fbclid=IwAR1VufHX1YVJQmmgsl5ozGjlbb4KovnimCSBazazgHrRczpbAbvY8UC6qHI” text=”Register”][/vc_column][/vc_row]
URL:https://www.sanjuancitizens.org/event/tri-state-in-2021-whats-ahead-for-rural-colorados-energy-transition-with-tri-state-ceo-duane-highley
CATEGORIES:Climate Change,Coal,Events
ATTACH;FMTTYPE=image/jpeg:https://www.sanjuancitizens.org/wp-content/uploads/2021/01/Tri-State-in-2021-Event-Graphic-scaled.jpg
END:VEVENT
BEGIN:VEVENT
DTSTART;TZID=America/Denver:20221108T100000
DTEND;TZID=America/Denver:20221108T120000
DTSTAMP:20260425T104006
CREATED:20221029T052822Z
LAST-MODIFIED:20221029T052822Z
UID:21553-1667901600-1667908800@www.sanjuancitizens.org
SUMMARY:FLC Sustainability Summit
DESCRIPTION:[vc_row type=”in_container” full_screen_row_position=”middle” column_margin=”default” column_direction=”default” column_direction_tablet=”default” column_direction_phone=”default” scene_position=”center” text_color=”dark” text_align=”left” row_border_radius=”none” row_border_radius_applies=”bg” overflow=”visible” overlay_strength=”0.3″ gradient_direction=”left_to_right” shape_divider_position=”bottom” bg_image_animation=”none”][vc_column column_padding=”no-extra-padding” column_padding_tablet=”inherit” column_padding_phone=”inherit” column_padding_position=”all” column_element_direction_desktop=”default” column_element_spacing=”default” centered_text=”true” desktop_text_alignment=”default” tablet_text_alignment=”default” phone_text_alignment=”default” background_color_opacity=”1″ background_hover_color_opacity=”1″ column_backdrop_filter=”none” column_shadow=”none” column_border_radius=”none” column_link_target=”_self” column_position=”default” gradient_direction=”left_to_right” overlay_strength=”0.3″ width=”1/1″ tablet_width_inherit=”default” animation_type=”default” bg_image_animation=”none” border_type=”simple” column_border_width=”none” column_border_style=”solid” column_padding_type=”default” gradient_type=”default”][divider line_type=”No Line”][vc_column_text]\nFort Lewis College Sustainability Summit\n[/vc_column_text][divider line_type=”No Line”][vc_column_text]\nNovember 8th\, 5:00-7:00 pm at the Fort Lewis Student Union Ballroom\n[/vc_column_text][divider line_type=”No Line”][image_with_animation image_url=”21554″ image_size=”full” animation_type=”entrance” animation=”None” animation_movement_type=”transform_y” hover_animation=”none” alignment=”” border_radius=”none” box_shadow=”none” image_loading=”default” max_width=”100%” max_width_mobile=”default”][divider line_type=”No Line”][vc_column_text]\n\n\n\n\n\nSJCA’S CLIMATE & ENERGY PROGRAM IS THE HEADLINE SPEAKER. Join us and hear what Emelie & Mike are working on! \nThe Sustainability Summit is one of the highlight annual environmental and sustainability events at Fort Lewis College. It is your chance to learn about what’s happening at FLC and in our broader region when it comes to sustainability issues and progress! This year will be back in person and feature many community organizations that you can connect with. If your care about our planet and our communities\, this is your chance to see how you can be a part of the movement for positive change! This event is free and open to all students\, faculty\, staff\, and members of the public. \n\n\n\n\n\n\n\n[/vc_column_text][/vc_column][/vc_row]
URL:https://www.sanjuancitizens.org/event/sustainability-summit
LOCATION:Fort Lewis College Student Union Ballroom\, 1000 Rim Drive\, Durango\, CO\, 81301\, United States
CATEGORIES:Climate Change,Events
END:VEVENT
END:VCALENDAR