BEGIN:VCALENDAR
VERSION:2.0
PRODID:-//San Juan Citizens Alliance - ECPv6.15.20//NONSGML v1.0//EN
CALSCALE:GREGORIAN
METHOD:PUBLISH
X-WR-CALNAME:San Juan Citizens Alliance
X-ORIGINAL-URL:https://www.sanjuancitizens.org
X-WR-CALDESC:Events for San Juan Citizens Alliance
REFRESH-INTERVAL;VALUE=DURATION:PT1H
X-Robots-Tag:noindex
X-PUBLISHED-TTL:PT1H
BEGIN:VTIMEZONE
TZID:America/Denver
BEGIN:DAYLIGHT
TZOFFSETFROM:-0700
TZOFFSETTO:-0600
TZNAME:MDT
DTSTART:20190310T090000
END:DAYLIGHT
BEGIN:STANDARD
TZOFFSETFROM:-0600
TZOFFSETTO:-0700
TZNAME:MST
DTSTART:20191103T080000
END:STANDARD
BEGIN:DAYLIGHT
TZOFFSETFROM:-0700
TZOFFSETTO:-0600
TZNAME:MDT
DTSTART:20200308T090000
END:DAYLIGHT
BEGIN:STANDARD
TZOFFSETFROM:-0600
TZOFFSETTO:-0700
TZNAME:MST
DTSTART:20201101T080000
END:STANDARD
BEGIN:DAYLIGHT
TZOFFSETFROM:-0700
TZOFFSETTO:-0600
TZNAME:MDT
DTSTART:20210314T090000
END:DAYLIGHT
BEGIN:STANDARD
TZOFFSETFROM:-0600
TZOFFSETTO:-0700
TZNAME:MST
DTSTART:20211107T080000
END:STANDARD
END:VTIMEZONE
BEGIN:VEVENT
DTSTART;TZID=America/Denver:20201216T180000
DTEND;TZID=America/Denver:20201216T193000
DTSTAMP:20260425T155137
CREATED:20201201T233937Z
LAST-MODIFIED:20201211T024532Z
UID:19745-1608141600-1608147000@www.sanjuancitizens.org
SUMMARY:SJCA Virtual End of Year Celebration
DESCRIPTION:Join us for a virtual end-of-year celebration and recap of successes! The night will include a conversation with our executive director and staff with a forward looking analysis towards opportunities in 2021 and a video tour of program successes\, which will be followed by a question and answer session. \n\n\nYou have to register to attend: https://us02web.zoom.us/meeting/register/tZMtf-6upj8vH93RiWm3cXfXRSXW9oxykSGM 
URL:https://www.sanjuancitizens.org/event/sjca-virtual-end-of-year-celebration
CATEGORIES:Community,Events
ATTACH;FMTTYPE=image/jpeg:https://www.sanjuancitizens.org/wp-content/uploads/2020/12/IMG_9806-scaled-e1606840736315.jpeg
END:VEVENT
END:VCALENDAR