BEGIN:VCALENDAR
VERSION:2.0
PRODID:-//San Juan Citizens Alliance - ECPv6.15.20//NONSGML v1.0//EN
CALSCALE:GREGORIAN
METHOD:PUBLISH
X-WR-CALNAME:San Juan Citizens Alliance
X-ORIGINAL-URL:https://www.sanjuancitizens.org
X-WR-CALDESC:Events for San Juan Citizens Alliance
REFRESH-INTERVAL;VALUE=DURATION:PT1H
X-Robots-Tag:noindex
X-PUBLISHED-TTL:PT1H
BEGIN:VTIMEZONE
TZID:America/Denver
BEGIN:DAYLIGHT
TZOFFSETFROM:-0700
TZOFFSETTO:-0600
TZNAME:MDT
DTSTART:20200308T090000
END:DAYLIGHT
BEGIN:STANDARD
TZOFFSETFROM:-0600
TZOFFSETTO:-0700
TZNAME:MST
DTSTART:20201101T080000
END:STANDARD
BEGIN:DAYLIGHT
TZOFFSETFROM:-0700
TZOFFSETTO:-0600
TZNAME:MDT
DTSTART:20210314T090000
END:DAYLIGHT
BEGIN:STANDARD
TZOFFSETFROM:-0600
TZOFFSETTO:-0700
TZNAME:MST
DTSTART:20211107T080000
END:STANDARD
BEGIN:DAYLIGHT
TZOFFSETFROM:-0700
TZOFFSETTO:-0600
TZNAME:MDT
DTSTART:20220313T090000
END:DAYLIGHT
BEGIN:STANDARD
TZOFFSETFROM:-0600
TZOFFSETTO:-0700
TZNAME:MST
DTSTART:20221106T080000
END:STANDARD
END:VTIMEZONE
BEGIN:VEVENT
DTSTART;TZID=America/Denver:20210210T050000
DTEND;TZID=America/Denver:20210210T060000
DTSTAMP:20260424T205411
CREATED:20210109T031935Z
LAST-MODIFIED:20210119T235605Z
UID:19832-1612933200-1612936800@www.sanjuancitizens.org
SUMMARY:Virtual GBR: Forward\, Better with Local Investing
DESCRIPTION:[vc_row type=”in_container” full_screen_row_position=”middle” scene_position=”center” text_color=”dark” text_align=”left” overlay_strength=”0.3″ shape_divider_position=”bottom”][vc_column column_padding=”no-extra-padding” column_padding_position=”all” background_color_opacity=”1″ background_hover_color_opacity=”1″ column_link_target=”_self” column_shadow=”none” column_border_radius=”none” width=”1/1″ tablet_width_inherit=”default” tablet_text_alignment=”default” phone_text_alignment=”default” column_border_width=”none” column_border_style=”solid”][vc_column_text]Join nationally renowned economist Michael Shuman\, author of “Put Your Money Where Your Life Is”\, and “The Local Economy Solution”\, for an inspiring appearance (via Zoom) to Durango. \nShuman is an appreciated economist\, attorney\, author\, and entrepreneur\, and a leading visionary on community economics.  He is Director of Local Economy Programs for Neighborhood Associates Corporation\, and an Adjunct Professor at Bard Business School in New York City.  He is credited with being one of the architects of the 2012 JOBS Act and dozens of state laws overhauling securities regulation of crowdfunding. \nShuman will explain the risks and returns involved with local investing\, and how any community can get started. He will also suggest some policies the city and county might initiate to accelerate local investing as a stimulus for jump starting the economy from COVID-19 shutdowns. \nA growing number of Americans are nervous about the Wall Street roller coaster and are looking for ways to invest their hard-earned life savings closer to home. Many assume that their pension funds can only be invested in global stocks and bonds. But as Michael Shuman shows\, everyone can move their money from Wall Street to Main Street using self-directed IRAs and solo 401ks. In this appearance\, Shuman will show how Durango residents can invest their pension funds in getting out debt\, becoming home owners\, installing solar energy systems\, fortifying local businesses and nonprofits\, and underwriting municipal projects. \nRegistration is required for Virtual GBR using the link below.  If you have an announcement to make during Virtual GBR\, give us a heads up by emailing info@sanjuancitizens.org.[/vc_column_text][/vc_column][/vc_row][vc_row type=”in_container” full_screen_row_position=”middle” scene_position=”center” text_color=”dark” text_align=”left” overlay_strength=”0.3″ shape_divider_position=”bottom”][vc_column centered_text=”true” column_padding=”no-extra-padding” column_padding_position=”all” background_color_opacity=”1″ background_hover_color_opacity=”1″ column_link_target=”_self” column_shadow=”none” column_border_radius=”none” width=”1/1″ tablet_width_inherit=”default” tablet_text_alignment=”default” phone_text_alignment=”default” column_border_width=”none” column_border_style=”solid”][nectar_btn size=”small” open_new_tab=”true” button_style=”regular” button_color_2=”Accent-Color” icon_family=”none” url=”https://us02web.zoom.us/meeting/register/tZIucOqgpjMiHdCYb4xUp8G4A8-iZ9j3gSpJ” text=”Register”][/vc_column][/vc_row]
URL:https://www.sanjuancitizens.org/event/virtual-gbr-forward-better-with-local-investing
CATEGORIES:Events,Green Business
ATTACH;FMTTYPE=image/jpeg:https://www.sanjuancitizens.org/wp-content/uploads/2021/01/alexander-mils-lCPhGxs7pww-unsplash-e1610137161480.jpg
END:VEVENT
END:VCALENDAR