BEGIN:VCALENDAR
VERSION:2.0
PRODID:-//San Juan Citizens Alliance - ECPv6.15.20//NONSGML v1.0//EN
CALSCALE:GREGORIAN
METHOD:PUBLISH
X-ORIGINAL-URL:https://www.sanjuancitizens.org
X-WR-CALDESC:Events for San Juan Citizens Alliance
REFRESH-INTERVAL;VALUE=DURATION:PT1H
X-Robots-Tag:noindex
X-PUBLISHED-TTL:PT1H
BEGIN:VTIMEZONE
TZID:America/Denver
BEGIN:DAYLIGHT
TZOFFSETFROM:-0700
TZOFFSETTO:-0600
TZNAME:MDT
DTSTART:20170312T090000
END:DAYLIGHT
BEGIN:STANDARD
TZOFFSETFROM:-0600
TZOFFSETTO:-0700
TZNAME:MST
DTSTART:20171105T080000
END:STANDARD
BEGIN:DAYLIGHT
TZOFFSETFROM:-0700
TZOFFSETTO:-0600
TZNAME:MDT
DTSTART:20180311T090000
END:DAYLIGHT
BEGIN:STANDARD
TZOFFSETFROM:-0600
TZOFFSETTO:-0700
TZNAME:MST
DTSTART:20181104T080000
END:STANDARD
BEGIN:DAYLIGHT
TZOFFSETFROM:-0700
TZOFFSETTO:-0600
TZNAME:MDT
DTSTART:20190310T090000
END:DAYLIGHT
BEGIN:STANDARD
TZOFFSETFROM:-0600
TZOFFSETTO:-0700
TZNAME:MST
DTSTART:20191103T080000
END:STANDARD
END:VTIMEZONE
BEGIN:VEVENT
DTSTART;TZID=America/Denver:20180524T020000
DTEND;TZID=America/Denver:20180524T110000
DTSTAMP:20260425T222252
CREATED:20180524T210845Z
LAST-MODIFIED:20180524T210845Z
UID:13851-1527127200-1527159600@www.sanjuancitizens.org
SUMMARY:Meet the Author: Kids Explore the Hidden Wonders of National Parks!
DESCRIPTION:Explore the Hidden Wonders of the National Parks!\nAn interactive storytime for kids\nMaria’s Bookshop \nTuesday\, July 10 at 10 am\n  \nJoin Maria’s Bookshop for an exciting interactive adventure through the national parks with local author Kate Siber! You’ll learn about some of the coolest creatures\, plants and wild wonders of these protected areas\, from the sputtering volcanoes of Hawaii to the misty blue peaks of the Great Smoky Mountains. \nKids can participate in games and activities (with prizes!) and share what they know about these remarkable lands in celebration of the publication of Siber’s new children’s book\, National Parks of the U.S.A.\, a large-format\, illustrated\, non-fiction title for kids ages 5-10. After the festivities\, there will be an opportunity to have your book signed. All ages welcome. \nAbout the Book: In NATIONAL PARKS OF THE U.S.A.\, discover the beauty and diversity of America’s great outdoors! On this adventurous tour of the country’s most iconic national parks\, readers will paddle Florida’s river-laced Everglades\, travel down the white water rapids of the Grand Canyon\, trek across the deserts of Death Valley and scale the soaring summits of the Rocky Mountains. Packed with maps and fascinating facts about the flora and fauna unique to each park\, this fully illustrated coast-to-coast journey documents some of the nation’s most magnificent and sacred wild places. \nAbout Kate Siber: Kate Siber is a Durango\, Colorado-based freelance journalist and correspondent for Outside magazine. Her work primarily appears in magazines\, including National Parks\, National Geographic Traveler\, and Men’s Journal. National Parks of the U.S.A. is her first children’s book and was illustrated by Chris Turnham\, an illustrator and artist who lives in Los Angeles. \n 
URL:https://www.sanjuancitizens.org/event/meet-the-author-kids-explore-the-hidden-wonders-of-national-parks
CATEGORIES:Events,Land,Lands Protection,Rivers,Water
ATTACH;FMTTYPE=image/png:https://www.sanjuancitizens.org/wp-content/uploads/2018/05/NationalParks-Book-Banner.png
END:VEVENT
END:VCALENDAR