BEGIN:VCALENDAR
VERSION:2.0
PRODID:-//San Juan Citizens Alliance - ECPv6.15.20//NONSGML v1.0//EN
CALSCALE:GREGORIAN
METHOD:PUBLISH
X-ORIGINAL-URL:https://www.sanjuancitizens.org
X-WR-CALDESC:Events for San Juan Citizens Alliance
REFRESH-INTERVAL;VALUE=DURATION:PT1H
X-Robots-Tag:noindex
X-PUBLISHED-TTL:PT1H
BEGIN:VTIMEZONE
TZID:America/Denver
BEGIN:DAYLIGHT
TZOFFSETFROM:-0700
TZOFFSETTO:-0600
TZNAME:MDT
DTSTART:20170312T090000
END:DAYLIGHT
BEGIN:STANDARD
TZOFFSETFROM:-0600
TZOFFSETTO:-0700
TZNAME:MST
DTSTART:20171105T080000
END:STANDARD
BEGIN:DAYLIGHT
TZOFFSETFROM:-0700
TZOFFSETTO:-0600
TZNAME:MDT
DTSTART:20180311T090000
END:DAYLIGHT
BEGIN:STANDARD
TZOFFSETFROM:-0600
TZOFFSETTO:-0700
TZNAME:MST
DTSTART:20181104T080000
END:STANDARD
BEGIN:DAYLIGHT
TZOFFSETFROM:-0700
TZOFFSETTO:-0600
TZNAME:MDT
DTSTART:20190310T090000
END:DAYLIGHT
BEGIN:STANDARD
TZOFFSETFROM:-0600
TZOFFSETTO:-0700
TZNAME:MST
DTSTART:20191103T080000
END:STANDARD
END:VTIMEZONE
BEGIN:VEVENT
DTSTART;TZID=America/Denver:20180710T040000
DTEND;TZID=America/Denver:20180710T060000
DTSTAMP:20260425T124511
CREATED:20180622T215720Z
LAST-MODIFIED:20180628T000308Z
UID:14009-1531195200-1531202400@www.sanjuancitizens.org
SUMMARY:Explore the Hidden Wonders of the National Parks: An Interactive Storytime for Kids
DESCRIPTION:Explore the Hidden Wonders of the National Parks: \nAn Interactive Storytime for Kids\nTuesday\, July 10th\n10 am – noon\nMaria’s Bookshop\nJoin Maria’s Bookshop for an exciting interactive adventure through the national parks with local author Kate Siber! You’ll learn about some of the coolest creatures\, plants and wild wonders of these protected areas\, from the sputtering volcanoes of Hawaii to the misty blue peaks of the Great Smoky Mountains. \nThis event will include games and activities (with prizes!) in celebration of the publication of Siber’s new children’s book\, National Parks of the U.S.A.\, a large-format\, illustrated\, non-fiction title for kids ages 5-10. All ages welcome.
URL:https://www.sanjuancitizens.org/event/explore-the-hidden-wonders-of-the-national-parks-an-interactive-storytime-for-kids
LOCATION:Maria’s Bookshop\, 960 Main Avenue\, Durango\, CO\, 81301\, United States
CATEGORIES:Events,Land,Lands Protection
ATTACH;FMTTYPE=image/png:https://www.sanjuancitizens.org/wp-content/uploads/2018/06/NationalParks-Book-Banner-Top.png
END:VEVENT
BEGIN:VEVENT
DTSTART;TZID=America/Denver:20180710T040000
DTEND;TZID=America/Denver:20180710T060000
DTSTAMP:20260425T124511
CREATED:20180622T220657Z
LAST-MODIFIED:20180622T220755Z
UID:14013-1531195200-1531202400@www.sanjuancitizens.org
SUMMARY:Explore the Hidden Wonders of the National Parks: An Interactive Storytime for Kids
DESCRIPTION:Explore the Hidden Wonders of the National Parks:\nAn Interactive Storytime for Kids\nTuesday\, July 10th from 10 am – noon\nMaria’s Bookshop\n960 Main Avenue\, Durango\, CO\n  \nJoin us Maria’s Bookshop for an exciting interactive adventure through the national parks with local author Kate Siber! We’ll learn about some of the coolest creatures\, plants and wild wonders of these protected areas\, from the sputtering volcanoes of Hawaii to the misty blue peaks of the Great Smoky Mountains. \nThis event will include games and activities (with prizes!) in celebration of the publication of Siber’s new children’s book\, National Parks of the U.S.A.\, a large-format\, illustrated\, non-fiction title for kids ages 5-10. All ages welcome.
URL:https://www.sanjuancitizens.org/event/explore-the-hidden-wonders-of-the-national-parks-an-interactive-storytime-for-kids-2
LOCATION:Maria’s Bookshop\, 960 Main Avenue\, Durango\, CO\, 81301\, United States
CATEGORIES:Events,Land,Lands Protection,Rivers,Water
ATTACH;FMTTYPE=image/png:https://www.sanjuancitizens.org/wp-content/uploads/2018/06/NationalParks-Book-Banner-Top.png
END:VEVENT
END:VCALENDAR