BEGIN:VCALENDAR
VERSION:2.0
PRODID:-//San Juan Citizens Alliance - ECPv6.15.20//NONSGML v1.0//EN
CALSCALE:GREGORIAN
METHOD:PUBLISH
X-WR-CALNAME:San Juan Citizens Alliance
X-ORIGINAL-URL:https://www.sanjuancitizens.org
X-WR-CALDESC:Events for San Juan Citizens Alliance
REFRESH-INTERVAL;VALUE=DURATION:PT1H
X-Robots-Tag:noindex
X-PUBLISHED-TTL:PT1H
BEGIN:VTIMEZONE
TZID:America/Denver
BEGIN:DAYLIGHT
TZOFFSETFROM:-0700
TZOFFSETTO:-0600
TZNAME:MDT
DTSTART:20180311T090000
END:DAYLIGHT
BEGIN:STANDARD
TZOFFSETFROM:-0600
TZOFFSETTO:-0700
TZNAME:MST
DTSTART:20181104T080000
END:STANDARD
BEGIN:DAYLIGHT
TZOFFSETFROM:-0700
TZOFFSETTO:-0600
TZNAME:MDT
DTSTART:20190310T090000
END:DAYLIGHT
BEGIN:STANDARD
TZOFFSETFROM:-0600
TZOFFSETTO:-0700
TZNAME:MST
DTSTART:20191103T080000
END:STANDARD
BEGIN:DAYLIGHT
TZOFFSETFROM:-0700
TZOFFSETTO:-0600
TZNAME:MDT
DTSTART:20200308T090000
END:DAYLIGHT
BEGIN:STANDARD
TZOFFSETFROM:-0600
TZOFFSETTO:-0700
TZNAME:MST
DTSTART:20201101T080000
END:STANDARD
END:VTIMEZONE
BEGIN:VEVENT
DTSTART;VALUE=DATE:20191209
DTEND;VALUE=DATE:20191211
DTSTAMP:20260419T140421
CREATED:20191120T044528Z
LAST-MODIFIED:20191120T044528Z
UID:17004-1575910800-1575997199@www.sanjuancitizens.org
SUMMARY:Colorado Gives Day!
DESCRIPTION:Give Where You Live!\nDecember 10th is Colorado Gives Day!\n  \nSouthwest Colorado Gives is a regional champion of Colorado Gives Day\, making it easer to Give Where You Live. San Juan Citizens Alliance is participating for the first time\, joining over 70 other non-profits doing important work in La Plata\, Montezuma\, Archuleta\, San Juan and Dolores County. You don’t have to wait until the 10th\, you can schedule your donation through their secure giving platform. Click on the button to donate and look for other amazing LOCAL nonprofits to support. \nYour donation supports our work ensuring a safe and complete clean-up of the Animas River\, advocating for and pursuing a just transition from coal to local renewable energy\, and demanding science-based management for our thriving public lands.
URL:https://www.sanjuancitizens.org/event/colorado-gives-day
CATEGORIES:Air,Climate Change,Coal,Environmental Justice,Events,Forest Health,Green Business,Land,Lands Protection,LPEA,Oil and Gas,Rivers,Water
ATTACH;FMTTYPE=image/jpeg:https://www.sanjuancitizens.org/wp-content/uploads/2019/11/Rectangle-Social-e1574196663293.jpg
END:VEVENT
BEGIN:VEVENT
DTSTART;VALUE=DATE:20191210
DTEND;VALUE=DATE:20191218
DTSTAMP:20260419T140421
CREATED:20191212T101259Z
LAST-MODIFIED:20191213T001147Z
UID:17081-1575997200-1576601999@www.sanjuancitizens.org
SUMMARY:Chaco & Carlsbad BLM lease sale protest
DESCRIPTION:Communities living near oil and gas wells already suffer the effects of poor air quality due to venting and flaring of toxic are emissions\, increased rates of cancer and asthma\, and unsafe traveling conditions – now the Bureau of Land Management (BLM) is planning to lease even more land for oil & gas development. \n  \nIn the Greater Chaco region\, over 90% of public lands are leased for oil and gas drilling. Development of oil and gas wells in this region will require more water\, release more pollution\, and pose more intensive environmental and health impacts. The BLM foresees thousands of wells being developed in this region that is already besieged by more than 40\,000 oil and gas wells. \nNow\, the BLM is gearing up to lease thousands more acres of public and ancestral tribal lands in New Mexico\, including more than 1\,300 additional acres in Greater Chaco and nearly 14\,000 in Greater Carlsbad at the February 2020 Lease Sale. \n\nWe need you to take action and submit comment to ensure the BLM knows we will stand up for the protection of public and sacred lands! \nClick here – BLM Feb 2020 lease protest form\nHere is a template for the comment form that explains why these lease sales are so damaging to our public lands\, environment\, communities and tribal sacred spaces. Just fill out the “supporting comment” section with your reasons for protesting the lease and supply your address/contact info…then send the form back to us!* \n\n\n*Please add your personalized comments in the designated location on the form and email it to our New Mexico Energy Organizer\, Zach Pavlik\, at zach@sanjuancitizens.org by no later than 12 pm/noon on Tuesday\, December 17th. \n 
URL:https://www.sanjuancitizens.org/event/chaco-carlsbad-blm-lease-sale-protest
CATEGORIES:Air,Climate Change,Environmental Justice,Land,Lands Protection,Oil and Gas
ATTACH;FMTTYPE=image/png:https://www.sanjuancitizens.org/wp-content/uploads/2016/07/stand-up-for-chaco-01.png
END:VEVENT
END:VCALENDAR