BEGIN:VCALENDAR
VERSION:2.0
PRODID:-//San Juan Citizens Alliance - ECPv6.15.20//NONSGML v1.0//EN
CALSCALE:GREGORIAN
METHOD:PUBLISH
X-ORIGINAL-URL:https://www.sanjuancitizens.org
X-WR-CALDESC:Events for San Juan Citizens Alliance
REFRESH-INTERVAL;VALUE=DURATION:PT1H
X-Robots-Tag:noindex
X-PUBLISHED-TTL:PT1H
BEGIN:VTIMEZONE
TZID:America/Denver
BEGIN:DAYLIGHT
TZOFFSETFROM:-0700
TZOFFSETTO:-0600
TZNAME:MDT
DTSTART:20170312T090000
END:DAYLIGHT
BEGIN:STANDARD
TZOFFSETFROM:-0600
TZOFFSETTO:-0700
TZNAME:MST
DTSTART:20171105T080000
END:STANDARD
BEGIN:DAYLIGHT
TZOFFSETFROM:-0700
TZOFFSETTO:-0600
TZNAME:MDT
DTSTART:20180311T090000
END:DAYLIGHT
BEGIN:STANDARD
TZOFFSETFROM:-0600
TZOFFSETTO:-0700
TZNAME:MST
DTSTART:20181104T080000
END:STANDARD
BEGIN:DAYLIGHT
TZOFFSETFROM:-0700
TZOFFSETTO:-0600
TZNAME:MDT
DTSTART:20190310T090000
END:DAYLIGHT
BEGIN:STANDARD
TZOFFSETFROM:-0600
TZOFFSETTO:-0700
TZNAME:MST
DTSTART:20191103T080000
END:STANDARD
END:VTIMEZONE
BEGIN:VEVENT
DTSTART;TZID=America/Denver:20180426T110000
DTEND;TZID=America/Denver:20180426T124500
DTSTAMP:20260420T122240
CREATED:20180417T091125Z
LAST-MODIFIED:20180417T091125Z
UID:13632-1524740400-1524746700@www.sanjuancitizens.org
SUMMARY:April Durango Green Drinks
DESCRIPTION:SJCA is proud to sponsor Durango Green Drinks\, an informal monthly gathering organized by the Sustainability Alliance of SW Colorado. A fantastic group of sustainability-minded local non-profits sponsor the event and rotate responsibilities hosting it. It is a fun and relaxed opportunity to connect\, chat\, network\, and be inspired. Brief announcements are followed by short presentations by host organizations\, which rotates monthly. There is plenty of time to network and catch up with friends. Green Drinks is non-partisan. \nApril is jointly hosted by our friends at Conservation Colorado and La Plata County Thrive Living Wage Coalition. As always\, Green Drinks is held on the last Thursday of the month in the back room of Carver Brewing Company from 5-6:45 pm. \nInvite friends and share on Facebook:
URL:https://www.sanjuancitizens.org/event/april-durango-green-drinks
LOCATION:Carver Brewing Company\, 1022 Main Street\, Durango\, CO\, 81301
CATEGORIES:Air,Climate Change,Coal,Environmental Justice,Events,Forest Health,Green Business,Land,Lands Protection,LPEA,Oil and Gas,Rivers,Water
END:VEVENT
END:VCALENDAR