BEGIN:VCALENDAR
VERSION:2.0
PRODID:-//San Juan Citizens Alliance - ECPv6.15.20//NONSGML v1.0//EN
CALSCALE:GREGORIAN
METHOD:PUBLISH
X-WR-CALNAME:San Juan Citizens Alliance
X-ORIGINAL-URL:https://www.sanjuancitizens.org
X-WR-CALDESC:Events for San Juan Citizens Alliance
REFRESH-INTERVAL;VALUE=DURATION:PT1H
X-Robots-Tag:noindex
X-PUBLISHED-TTL:PT1H
BEGIN:VTIMEZONE
TZID:America/Denver
BEGIN:DAYLIGHT
TZOFFSETFROM:-0700
TZOFFSETTO:-0600
TZNAME:MDT
DTSTART:20170312T090000
END:DAYLIGHT
BEGIN:STANDARD
TZOFFSETFROM:-0600
TZOFFSETTO:-0700
TZNAME:MST
DTSTART:20171105T080000
END:STANDARD
BEGIN:DAYLIGHT
TZOFFSETFROM:-0700
TZOFFSETTO:-0600
TZNAME:MDT
DTSTART:20180311T090000
END:DAYLIGHT
BEGIN:STANDARD
TZOFFSETFROM:-0600
TZOFFSETTO:-0700
TZNAME:MST
DTSTART:20181104T080000
END:STANDARD
BEGIN:DAYLIGHT
TZOFFSETFROM:-0700
TZOFFSETTO:-0600
TZNAME:MDT
DTSTART:20190310T090000
END:DAYLIGHT
BEGIN:STANDARD
TZOFFSETFROM:-0600
TZOFFSETTO:-0700
TZNAME:MST
DTSTART:20191103T080000
END:STANDARD
END:VTIMEZONE
BEGIN:VEVENT
DTSTART;TZID=America/Denver:20180208T100000
DTEND;TZID=America/Denver:20180208T120000
DTSTAMP:20260420T143813
CREATED:20180126T040735Z
LAST-MODIFIED:20180126T041740Z
UID:13134-1518084000-1518091200@www.sanjuancitizens.org
SUMMARY:LPEA Election Open House
DESCRIPTION:Come\, eat\, drink\, and learn why we need to elect an active\, forward thinking LPEA Board of Directors. Let’s band together to lower rates for everyone with local\, renewable energy! \nDID YOU KNOW? Renewable energy costs in Colorado are now on par with coal! \nUnfortunately\, La Plata Electric Association (LPEA)\, is in an expensive contract that forces us to buy 95% of our power from a majority coal provider through 2050. \nOur community has the opportunity to look at ways to diversify our power sources\, gain local control\, and lower electricity rates for everyone. But right now\, a majority of our LPEA Board of Directors are unwilling to question the status quo. Fortunately\, as members of LPEA\, we have the opportunity to speak out through our votes each year! \nCome join us as we discuss the importance of this year’s election and how you can get involved. We’ll have happy hour drinks\, appetizers\, information\, and current board members available to chat with! \nFACEBOOK EVENT
URL:https://www.sanjuancitizens.org/event/lpea-election-open-house
LOCATION:R Space\, 734 E 2nd Ave\, Durango\, CO\, 81301\, United States
CATEGORIES:Events,LPEA
ATTACH;FMTTYPE=image/png:https://www.sanjuancitizens.org/wp-content/uploads/2018/01/aat-stake-01-e1516915045627.png
END:VEVENT
BEGIN:VEVENT
DTSTART;TZID=America/Denver:20180131T060000
DTEND;TZID=America/Denver:20180131T090000
DTSTAMP:20260420T143813
CREATED:20180130T003050Z
LAST-MODIFIED:20180130T003050Z
UID:13166-1517378400-1517389200@www.sanjuancitizens.org
SUMMARY:LPEA Long-Term Strategy Subcommittee
DESCRIPTION:The La Plata Electric Association (LPEA) long-term strategy subcommittee is meeting for the first time to discuss a possible mission and strategy. The whole LPEA Board will later vote on the review’s continuation. The meeting is open to the public.
URL:https://www.sanjuancitizens.org/event/lpea-long-term-strategy-subcommittee
LOCATION:La Plata Electric Association\, 45 Stewart St\, Durango\, CO\, 81303\, United States
CATEGORIES:LPEA
ATTACH;FMTTYPE=image/png:https://www.sanjuancitizens.org/wp-content/uploads/2017/11/San-Juans-N-of-Durango-e1518720069852.png
END:VEVENT
BEGIN:VEVENT
DTSTART;TZID=America/Denver:20180125T100000
DTEND;TZID=America/Denver:20180125T114500
DTSTAMP:20260420T143813
CREATED:20180118T044300Z
LAST-MODIFIED:20230515T224734Z
UID:13094-1516874400-1516880700@www.sanjuancitizens.org
SUMMARY:Durango Green Drinks - 2018 Kickoff!
DESCRIPTION:SJCA is proud to sponsor Durango Green Drinks\, an informal monthly gathering organized by the Sustainability Alliance of SW Colorado. A fantastic group of sustainability-minded local non-profits sponsor the event and rotate responsibilities hosting it. It is a fun and relaxed opportunity to connect\, chat\, network\, and be inspired. Brief announcements are followed by short presentations by host organizations\, which rotates monthly. There is plenty of time to network and catch up with friends. Green Drinks is non-partisan. \nJanuary is jointly hosted by all organizations to kick-off a new year. As in previous years\, Green Drinks is held on the last Thursday of the month in the back room of Carver Brewing Company from 5-6:45 pm.
URL:https://www.sanjuancitizens.org/event/durango-green-drinks-2018-kickoff
LOCATION:Carver Brewing Company\, 1022 Main Street\, Durango\, CO\, 81301
CATEGORIES:Events
END:VEVENT
END:VCALENDAR