BEGIN:VCALENDAR
VERSION:2.0
PRODID:-//San Juan Citizens Alliance - ECPv6.15.20//NONSGML v1.0//EN
CALSCALE:GREGORIAN
METHOD:PUBLISH
X-ORIGINAL-URL:https://www.sanjuancitizens.org
X-WR-CALDESC:Events for San Juan Citizens Alliance
REFRESH-INTERVAL;VALUE=DURATION:PT1H
X-Robots-Tag:noindex
X-PUBLISHED-TTL:PT1H
BEGIN:VTIMEZONE
TZID:America/Denver
BEGIN:DAYLIGHT
TZOFFSETFROM:-0700
TZOFFSETTO:-0600
TZNAME:MDT
DTSTART:20230312T090000
END:DAYLIGHT
BEGIN:STANDARD
TZOFFSETFROM:-0600
TZOFFSETTO:-0700
TZNAME:MST
DTSTART:20231105T080000
END:STANDARD
BEGIN:DAYLIGHT
TZOFFSETFROM:-0700
TZOFFSETTO:-0600
TZNAME:MDT
DTSTART:20240310T090000
END:DAYLIGHT
BEGIN:STANDARD
TZOFFSETFROM:-0600
TZOFFSETTO:-0700
TZNAME:MST
DTSTART:20241103T080000
END:STANDARD
BEGIN:DAYLIGHT
TZOFFSETFROM:-0700
TZOFFSETTO:-0600
TZNAME:MDT
DTSTART:20250309T090000
END:DAYLIGHT
BEGIN:STANDARD
TZOFFSETFROM:-0600
TZOFFSETTO:-0700
TZNAME:MST
DTSTART:20251102T080000
END:STANDARD
END:VTIMEZONE
BEGIN:VEVENT
DTSTART;TZID=America/Denver:20240523T113000
DTEND;TZID=America/Denver:20240523T123000
DTSTAMP:20260423T000017
CREATED:20240513T231204Z
LAST-MODIFIED:20240513T231204Z
UID:23195-1716463800-1716467400@www.sanjuancitizens.org
SUMMARY:Farmington Green Drinks
DESCRIPTION:[vc_row type=”in_container” full_screen_row_position=”middle” column_margin=”default” column_direction=”default” column_direction_tablet=”default” column_direction_phone=”default” scene_position=”center” text_color=”dark” text_align=”left” row_border_radius=”none” row_border_radius_applies=”bg” overflow=”visible” overlay_strength=”0.3″ gradient_direction=”left_to_right” shape_divider_position=”bottom” bg_image_animation=”none”][vc_column column_padding=”no-extra-padding” column_padding_tablet=”inherit” column_padding_phone=”inherit” column_padding_position=”all” column_element_direction_desktop=”default” column_element_spacing=”default” desktop_text_alignment=”default” tablet_text_alignment=”default” phone_text_alignment=”default” background_color_opacity=”1″ background_hover_color_opacity=”1″ column_backdrop_filter=”none” column_shadow=”none” column_border_radius=”none” column_link_target=”_self” column_position=”default” gradient_direction=”left_to_right” overlay_strength=”0.3″ width=”1/1″ tablet_width_inherit=”default” animation_type=”default” bg_image_animation=”none” border_type=”simple” column_border_width=”none” column_border_style=”solid”][divider line_type=”No Line”][vc_column_text]\nFarmington Green Drinks\n[/vc_column_text][divider line_type=”No Line”][vc_column_text text_direction=”default”]\n5:30-6:30 pm on the fourth Wednesday of every month.\n THIS MONTH\, GREEN DRINKS WILL BE HELD ON THURSDAY SO MIKE CAN ATTEND.\n[/vc_column_text][divider line_type=”No Line”][vc_column_text text_direction=”default”]\nMay 23rd \n[/vc_column_text][divider line_type=”No Line”][vc_column_text]Farmington Green Drinks is back for the new year! Mark your calendars for the fourth Wednesday of the month to enjoy a beer and good conversation with other residents who care about the environment and a sustainable future. \nGreen Drinks is a space to relax and network with people who care about what you care about. It provides an opportunity to chat with other individuals and groups whose work or focus shares a common interest in the well-being of our planet. We look forward to seeing you! \nFARMINGTON GREEN DRINKS WILL BE HELD AT THE RAMBLER IN FARMINGTON.[/vc_column_text][/vc_column][/vc_row]
URL:https://www.sanjuancitizens.org/event/farmington-green-drinks-7
LOCATION:The Rambler\, 5100 E Main St Suite 109\, Farmington\, NM\, 87402\, United States
CATEGORIES:Events
ATTACH;FMTTYPE=image/jpeg:https://www.sanjuancitizens.org/wp-content/uploads/2022/09/Farmington-Green-Drinks-Website-scaled.jpg
END:VEVENT
BEGIN:VEVENT
DTSTART;TZID=America/Denver:20240530T110000
DTEND;TZID=America/Denver:20240530T130000
DTSTAMP:20260423T000017
CREATED:20240514T201131Z
LAST-MODIFIED:20240514T201149Z
UID:23200-1717066800-1717074000@www.sanjuancitizens.org
SUMMARY:SJCA Hosts Durango Green Drinks
DESCRIPTION:We’re hosting Durango Green Drinks this month on Thursday\, May 30 from 5-7PM with Bike Durango and Local First. \nDurango Green Drinks is a fun\, informal monthly gathering organized by the Sustainability Alliance of SW Colorado. A fantastic group of sustainability-minded local non-profits sponsor the event and rotate hosting responsibilities. It is a fun and relaxed opportunity to connect\, chat\, network\, and be inspired. There is plenty of time to network and catch up with friends. Green Drinks is non-partisan.
URL:https://www.sanjuancitizens.org/event/sjca-hosts-durango-green-drinks
CATEGORIES:Events
ATTACH;FMTTYPE=image/jpeg:https://www.sanjuancitizens.org/wp-content/uploads/2024/05/FacebookLong-Durango-Green-Drinks-May-2024.jpg
END:VEVENT
BEGIN:VEVENT
DTSTART;TZID=America/Denver:20240530T113000
DTEND;TZID=America/Denver:20240529T180000
DTSTAMP:20260423T000017
CREATED:20240524T003236Z
LAST-MODIFIED:20240531T011304Z
UID:23234-1717068600-1717005600@www.sanjuancitizens.org
SUMMARY:San Juan Backcountry Alliance Meeting
DESCRIPTION:We’re rallying all avid San Juan backcountry users for a discussion about what’s inside the Rio Grande National Forest’s Winter Travel Plan.\n\nJoin us in Pagosa at the Timber Ridge Clubhouse next Thursday at 5:30 pm to learn more.\n\nA quick background on the Winter Travel Plan:\n\n 	The Rio Grande National Forest is developing a forest-wide winter travel management plan\n 	The plan will designate trails and areas open to cross-country snowmobile use and create motor-use vehicle maps. Draft maps would designate 74% of the Rio Grande (1\,382\,276 acres) as open for snowmobile use\, along with 260 miles of groomed snowmobile routes.
URL:https://www.sanjuancitizens.org/event/san-juan-backcountry-alliance-meeting-pagosa
LOCATION:Timber Ridge Clubhouse\, CO 81147\, Pagosa Springs\, CO\, 81147\, United States
CATEGORIES:Events
ATTACH;FMTTYPE=image/jpeg:https://www.sanjuancitizens.org/wp-content/uploads/2024/05/Email_NatMoore.jpg
END:VEVENT
BEGIN:VEVENT
DTSTART;TZID=America/Denver:20240530T113000
DTEND;TZID=America/Denver:20240530T113000
DTSTAMP:20260423T000017
CREATED:20240531T091001Z
LAST-MODIFIED:20240531T091001Z
UID:23245-1717068600-1717068600@www.sanjuancitizens.org
SUMMARY:Animas River Days
DESCRIPTION:Join us at Animas River Days! San Juan Citizens Alliance will be tabling with Protect the Dolores and equipped with fun trivia\, candy\, stickers\, and updates on our current work on the beloved Animas! \nFind us at Santa Rita Park all day Saturday\, June 1st. \nClick here for more details on Animas River Days.
URL:https://www.sanjuancitizens.org/event/animas-river-days-2024
LOCATION:Santa Rita Park\, 149 South Camino del Rio\, Durango\, CO\, 81301\, United States
CATEGORIES:Events,Rivers
ATTACH;FMTTYPE=image/jpeg:https://www.sanjuancitizens.org/wp-content/uploads/2024/04/DSC_0006-scaled.jpg
END:VEVENT
END:VCALENDAR