BEGIN:VCALENDAR
VERSION:2.0
PRODID:-//San Juan Citizens Alliance - ECPv6.15.20//NONSGML v1.0//EN
CALSCALE:GREGORIAN
METHOD:PUBLISH
X-WR-CALNAME:San Juan Citizens Alliance
X-ORIGINAL-URL:https://www.sanjuancitizens.org
X-WR-CALDESC:Events for San Juan Citizens Alliance
REFRESH-INTERVAL;VALUE=DURATION:PT1H
X-Robots-Tag:noindex
X-PUBLISHED-TTL:PT1H
BEGIN:VTIMEZONE
TZID:America/Denver
BEGIN:DAYLIGHT
TZOFFSETFROM:-0700
TZOFFSETTO:-0600
TZNAME:MDT
DTSTART:20220313T090000
END:DAYLIGHT
BEGIN:STANDARD
TZOFFSETFROM:-0600
TZOFFSETTO:-0700
TZNAME:MST
DTSTART:20221106T080000
END:STANDARD
BEGIN:DAYLIGHT
TZOFFSETFROM:-0700
TZOFFSETTO:-0600
TZNAME:MDT
DTSTART:20230312T090000
END:DAYLIGHT
BEGIN:STANDARD
TZOFFSETFROM:-0600
TZOFFSETTO:-0700
TZNAME:MST
DTSTART:20231105T080000
END:STANDARD
BEGIN:DAYLIGHT
TZOFFSETFROM:-0700
TZOFFSETTO:-0600
TZNAME:MDT
DTSTART:20240310T090000
END:DAYLIGHT
BEGIN:STANDARD
TZOFFSETFROM:-0600
TZOFFSETTO:-0700
TZNAME:MST
DTSTART:20241103T080000
END:STANDARD
END:VTIMEZONE
BEGIN:VEVENT
DTSTART;TZID=America/Denver:20230210T110000
DTEND;TZID=America/Denver:20230211T140000
DTSTAMP:20260420T115427
CREATED:20230106T030454Z
LAST-MODIFIED:20230106T030738Z
UID:21695-1676026800-1676124000@www.sanjuancitizens.org
SUMMARY:Banff Mountain Film Festival World Tour - Durango
DESCRIPTION:[vc_row type=”in_container” full_screen_row_position=”middle” column_margin=”default” column_direction=”default” column_direction_tablet=”default” column_direction_phone=”default” scene_position=”center” text_color=”dark” text_align=”left” row_border_radius=”none” row_border_radius_applies=”bg” overflow=”visible” overlay_strength=”0.3″ gradient_direction=”left_to_right” shape_divider_position=”bottom” bg_image_animation=”none”][vc_column column_padding=”no-extra-padding” column_padding_tablet=”inherit” column_padding_phone=”inherit” column_padding_position=”all” column_element_direction_desktop=”default” column_element_spacing=”default” desktop_text_alignment=”default” tablet_text_alignment=”default” phone_text_alignment=”default” background_color_opacity=”1″ background_hover_color_opacity=”1″ column_backdrop_filter=”none” column_shadow=”none” column_border_radius=”none” column_link_target=”_self” column_position=”default” gradient_direction=”left_to_right” overlay_strength=”0.3″ width=”1/1″ tablet_width_inherit=”default” animation_type=”default” bg_image_animation=”none” border_type=”simple” column_border_width=”none” column_border_style=”solid”][divider line_type=”No Line”][vc_column_text]\nBanff Mountain Film Festival World Tour\n\nFebruary 10th & 11th\, 2022\nCommunity Concert Hall at Fort Lewis College\n7 pm\, Doors Open at 6\n  \nBanff Mountain Film Festival is back with two nights of unique film line-ups! Join us for one night or two of award-winning adventure\, environmental\, exploration\, and mountain culture films from around the world. In addition to awe-inspiring films\, you can bid on gear\, gift cards\, classes\, and epic adventures in our amazing silent auction. \nAll proceeds benefit San Juan Citizens Alliance and our mission to advocate for pure air\, clean water\, and healthy lands & wildlife in the San Juan Basin (our backyards!). \nLearn more about the Banff Mountain Film Festival World Tour.[/vc_column_text][divider line_type=”No Line”][divider line_type=”No Line”][nectar_btn size=”large” open_new_tab=”true” button_style=”see-through-2″ hover_color_override=”#403e2e” hover_text_color_override=”#ffffff” icon_family=”none” text=”Friday Night Tickets” url=”https://www.tix.com/ticket-sales/durangoconcerts/260/event/1307977″][divider line_type=”No Line”][nectar_btn size=”large” open_new_tab=”true” button_style=”see-through-2″ hover_color_override=”#403e2e” hover_text_color_override=”#ffffff” icon_family=”none” text=”Saturday Night Tickets” url=”https://www.tix.com/ticket-sales/durangoconcerts/260/event/1307978″][/vc_column][/vc_row]
URL:https://www.sanjuancitizens.org/event/banff-mountain-film-festival-world-tour-durango
LOCATION:Community Concert Hall at FLC\, 1000 Rim Drive\, Durango\, CO\, 81301\, United States
ATTACH;FMTTYPE=image/jpeg:https://www.sanjuancitizens.org/wp-content/uploads/2022/12/WT-NA-Multipurpose-2100x900_22.jpg
END:VEVENT
END:VCALENDAR