BEGIN:VCALENDAR
VERSION:2.0
PRODID:-//San Juan Citizens Alliance - ECPv6.15.20//NONSGML v1.0//EN
CALSCALE:GREGORIAN
METHOD:PUBLISH
X-ORIGINAL-URL:https://www.sanjuancitizens.org
X-WR-CALDESC:Events for San Juan Citizens Alliance
REFRESH-INTERVAL;VALUE=DURATION:PT1H
X-Robots-Tag:noindex
X-PUBLISHED-TTL:PT1H
BEGIN:VTIMEZONE
TZID:America/Denver
BEGIN:DAYLIGHT
TZOFFSETFROM:-0700
TZOFFSETTO:-0600
TZNAME:MDT
DTSTART:20170312T090000
END:DAYLIGHT
BEGIN:STANDARD
TZOFFSETFROM:-0600
TZOFFSETTO:-0700
TZNAME:MST
DTSTART:20171105T080000
END:STANDARD
BEGIN:DAYLIGHT
TZOFFSETFROM:-0700
TZOFFSETTO:-0600
TZNAME:MDT
DTSTART:20180311T090000
END:DAYLIGHT
BEGIN:STANDARD
TZOFFSETFROM:-0600
TZOFFSETTO:-0700
TZNAME:MST
DTSTART:20181104T080000
END:STANDARD
BEGIN:DAYLIGHT
TZOFFSETFROM:-0700
TZOFFSETTO:-0600
TZNAME:MDT
DTSTART:20190310T090000
END:DAYLIGHT
BEGIN:STANDARD
TZOFFSETFROM:-0600
TZOFFSETTO:-0700
TZNAME:MST
DTSTART:20191103T080000
END:STANDARD
END:VTIMEZONE
BEGIN:VEVENT
DTSTART;TZID=America/Denver:20181020T030000
DTEND;TZID=America/Denver:20181020T130000
DTSTAMP:20260424T211416
CREATED:20181011T233750Z
LAST-MODIFIED:20181011T233750Z
UID:14615-1540004400-1540040400@www.sanjuancitizens.org
SUMMARY:Oktober Forest
DESCRIPTION:OKTOBER F(or)EST\nWatershed\, Brewshed\, Fireshed\, & Foodshed\nOctober 20th\nDolores\, Colorado\nEvents all day! See the poster below\nCommunity Potluck: 11:30-1:30\nWe are proud to be a part of this great forest collaborative. Join us for the Community Potluck or any of the other amazing line-up of events and earn yourself a free beer or cider. Topics include bark beetle\, Plateau Fire\, Home Defense\, Noxious weeds and more. Check out the full line-up of events on the poster below! \n 
URL:https://www.sanjuancitizens.org/event/oktober-forest
LOCATION:Dolores\, CO\, Various locations\, Dolores\, CO\, 81323\, United States
CATEGORIES:Climate Change,Events,Forest Health
ATTACH;FMTTYPE=image/jpeg:https://www.sanjuancitizens.org/wp-content/uploads/2018/10/flyer-10-9-18-copy.jpeg
END:VEVENT
END:VCALENDAR