BEGIN:VCALENDAR
VERSION:2.0
PRODID:-//San Juan Citizens Alliance - ECPv6.15.20//NONSGML v1.0//EN
CALSCALE:GREGORIAN
METHOD:PUBLISH
X-ORIGINAL-URL:https://www.sanjuancitizens.org
X-WR-CALDESC:Events for San Juan Citizens Alliance
REFRESH-INTERVAL;VALUE=DURATION:PT1H
X-Robots-Tag:noindex
X-PUBLISHED-TTL:PT1H
BEGIN:VTIMEZONE
TZID:America/Denver
BEGIN:DAYLIGHT
TZOFFSETFROM:-0700
TZOFFSETTO:-0600
TZNAME:MDT
DTSTART:20180311T090000
END:DAYLIGHT
BEGIN:STANDARD
TZOFFSETFROM:-0600
TZOFFSETTO:-0700
TZNAME:MST
DTSTART:20181104T080000
END:STANDARD
BEGIN:DAYLIGHT
TZOFFSETFROM:-0700
TZOFFSETTO:-0600
TZNAME:MDT
DTSTART:20190310T090000
END:DAYLIGHT
BEGIN:STANDARD
TZOFFSETFROM:-0600
TZOFFSETTO:-0700
TZNAME:MST
DTSTART:20191103T080000
END:STANDARD
BEGIN:DAYLIGHT
TZOFFSETFROM:-0700
TZOFFSETTO:-0600
TZNAME:MDT
DTSTART:20200308T090000
END:DAYLIGHT
BEGIN:STANDARD
TZOFFSETFROM:-0600
TZOFFSETTO:-0700
TZNAME:MST
DTSTART:20201101T080000
END:STANDARD
END:VTIMEZONE
BEGIN:VEVENT
DTSTART;TZID=America/Denver:20190621T030000
DTEND;TZID=America/Denver:20190621T070000
DTSTAMP:20260420T234234
CREATED:20190608T094048Z
LAST-MODIFIED:20190610T202427Z
UID:15831-1561086000-1561100400@www.sanjuancitizens.org
SUMMARY:Gold King Mine Update Teach-In
DESCRIPTION:Gold King Mine Update Teach-In\nFriday\, June\, 21st\n9 am – 1 pm\nShiprock Chapter House\nThe 4th Annual Conference on Animas and San Juan Watershed Conference: Successes and Challenges from Headwaters to Lake Powell (June 19-20\, 2019 San Juan College\, Farmington) will host a Community Teach-In to update participants on Gold King Mine Spill monitoring and research. \nFlash Talk presentations (three-minute summary talks) will be made by scientists and others who have been conducting sampling studies and research on the impacts of the August 15 Gold King Mine spill. Join us to learn about the research that has been done\, by whom\, and the most recent results. Speakers will include researchers from the New Mexico Environment Department\, U.S. Environmental Protection Agency\, and U.S. Geological Survey\, as well as by students and faculty from the region. \nScientists and others will present their findings on the impacts of the August 2015 Gold King Mine spill. There is no charge for attending and a light breakfast and lunch will be provided. Please RSVP with Peggy Risner at 575-646-1813 or by email at prisner@nmsu.edu. \nMore details at https://animas.nmwrri.nmsu.edu/2019/
URL:https://www.sanjuancitizens.org/event/gold-king-mine-update-teach-in
LOCATION:Shiprock Chapter House\, U.S. Highway 64\, Mile post 23\, Building 5548\, Shiprock\, New Mexico
CATEGORIES:Events,Rivers
ATTACH;FMTTYPE=image/jpeg:https://www.sanjuancitizens.org/wp-content/uploads/2015/08/Gold-King-Mine-e1439307648408.jpg
END:VEVENT
END:VCALENDAR