BEGIN:VCALENDAR
VERSION:2.0
PRODID:-//San Juan Citizens Alliance - ECPv6.15.20//NONSGML v1.0//EN
CALSCALE:GREGORIAN
METHOD:PUBLISH
X-ORIGINAL-URL:https://www.sanjuancitizens.org
X-WR-CALDESC:Events for San Juan Citizens Alliance
REFRESH-INTERVAL;VALUE=DURATION:PT1H
X-Robots-Tag:noindex
X-PUBLISHED-TTL:PT1H
BEGIN:VTIMEZONE
TZID:America/Denver
BEGIN:DAYLIGHT
TZOFFSETFROM:-0700
TZOFFSETTO:-0600
TZNAME:MDT
DTSTART:20180311T090000
END:DAYLIGHT
BEGIN:STANDARD
TZOFFSETFROM:-0600
TZOFFSETTO:-0700
TZNAME:MST
DTSTART:20181104T080000
END:STANDARD
BEGIN:DAYLIGHT
TZOFFSETFROM:-0700
TZOFFSETTO:-0600
TZNAME:MDT
DTSTART:20190310T090000
END:DAYLIGHT
BEGIN:STANDARD
TZOFFSETFROM:-0600
TZOFFSETTO:-0700
TZNAME:MST
DTSTART:20191103T080000
END:STANDARD
BEGIN:DAYLIGHT
TZOFFSETFROM:-0700
TZOFFSETTO:-0600
TZNAME:MDT
DTSTART:20200308T090000
END:DAYLIGHT
BEGIN:STANDARD
TZOFFSETFROM:-0600
TZOFFSETTO:-0700
TZNAME:MST
DTSTART:20201101T080000
END:STANDARD
END:VTIMEZONE
BEGIN:VEVENT
DTSTART;TZID=America/Denver:20190516T110000
DTEND;TZID=America/Denver:20190516T124500
DTSTAMP:20260425T042912
CREATED:20190507T222422Z
LAST-MODIFIED:20190507T223016Z
UID:15678-1558004400-1558010700@www.sanjuancitizens.org
SUMMARY:Farmington Green Drinks
DESCRIPTION:May Green Drinks\nThursday\, May 16th\nThree Rivers Brewery Taproom\nFarmington\, NM\n5-6:45pm\nMike and Zach of our Farmington team are excited to invite you to the first monthly Green Drinks in Farmington! \nGreen Drinks is a space to relax and enjoy a beer and conversation with people who care about what you care about. It provides an opportunity to network with other individuals and groups whose work or focus shares a common interest in the well being of our planet. We look forward to seeing you there! \n \nShare and invite friends to the event on Facebook.
URL:https://www.sanjuancitizens.org/event/15678
LOCATION:Three Rivers Brewery Taproom\, 111 E Main Street\, Farmington\, CO\, 81301\, United States
CATEGORIES:Events
ATTACH;FMTTYPE=image/jpeg:https://www.sanjuancitizens.org/wp-content/uploads/2019/05/NM-Green-Drinks.jpg
END:VEVENT
END:VCALENDAR