BEGIN:VCALENDAR
VERSION:2.0
PRODID:-//San Juan Citizens Alliance - ECPv6.15.20//NONSGML v1.0//EN
CALSCALE:GREGORIAN
METHOD:PUBLISH
X-WR-CALNAME:San Juan Citizens Alliance
X-ORIGINAL-URL:https://www.sanjuancitizens.org
X-WR-CALDESC:Events for San Juan Citizens Alliance
REFRESH-INTERVAL;VALUE=DURATION:PT1H
X-Robots-Tag:noindex
X-PUBLISHED-TTL:PT1H
BEGIN:VTIMEZONE
TZID:America/Denver
BEGIN:DAYLIGHT
TZOFFSETFROM:-0700
TZOFFSETTO:-0600
TZNAME:MDT
DTSTART:20180311T090000
END:DAYLIGHT
BEGIN:STANDARD
TZOFFSETFROM:-0600
TZOFFSETTO:-0700
TZNAME:MST
DTSTART:20181104T080000
END:STANDARD
BEGIN:DAYLIGHT
TZOFFSETFROM:-0700
TZOFFSETTO:-0600
TZNAME:MDT
DTSTART:20190310T090000
END:DAYLIGHT
BEGIN:STANDARD
TZOFFSETFROM:-0600
TZOFFSETTO:-0700
TZNAME:MST
DTSTART:20191103T080000
END:STANDARD
BEGIN:DAYLIGHT
TZOFFSETFROM:-0700
TZOFFSETTO:-0600
TZNAME:MDT
DTSTART:20200308T090000
END:DAYLIGHT
BEGIN:STANDARD
TZOFFSETFROM:-0600
TZOFFSETTO:-0700
TZNAME:MST
DTSTART:20201101T080000
END:STANDARD
END:VTIMEZONE
BEGIN:VEVENT
DTSTART;TZID=America/Denver:20191024T060000
DTEND;TZID=America/Denver:20191024T070000
DTSTAMP:20260421T103307
CREATED:20191009T024052Z
LAST-MODIFIED:20191009T025348Z
UID:16760-1571896800-1571900400@www.sanjuancitizens.org
SUMMARY:Durango Green Drinks - October
DESCRIPTION:Durango Green Drinks\nThursday\, October 24th\nCarver Brewing Company\n5-6:45pm\nSJCA is proud to sponsor Durango Green Drinks\, a fun\, informal monthly gathering organized by the Sustainability Alliance of SW Colorado. A fantastic group of sustainability-minded local non-profits sponsor the event and rotate hosting responsibilities. October is being hosted by our friends and partners at Great Old Broads for Wilderness and Conservation Colorado. It is a fun and relaxed opportunity to connect\, chat\, network\, and be inspired. Brief announcements are followed by short presentations by host organizations\, which rotates monthly. There is plenty of time to network and catch up with friends. Green Drinks is non-partisan. \nGreen Drinks usually held on the last Thursday of the month in the back room of Carver Brewing Company from 5-6:45 pm\, but October and November will be a week early to avoid conflicts with Halloween and Thanksgiving. \nInvite friends and share on Facebook
URL:https://www.sanjuancitizens.org/event/durango-green-drinks-october
LOCATION:Carver Brewing Company\, 1022 Main Street\, Durango\, CO\, 81301
CATEGORIES:Events
ATTACH;FMTTYPE=image/jpeg:https://www.sanjuancitizens.org/wp-content/uploads/2019/10/October-2019-Green-Drinks.jpg
END:VEVENT
END:VCALENDAR