BEGIN:VCALENDAR
VERSION:2.0
PRODID:-//San Juan Citizens Alliance - ECPv6.15.20//NONSGML v1.0//EN
CALSCALE:GREGORIAN
METHOD:PUBLISH
X-WR-CALNAME:San Juan Citizens Alliance
X-ORIGINAL-URL:https://www.sanjuancitizens.org
X-WR-CALDESC:Events for San Juan Citizens Alliance
REFRESH-INTERVAL;VALUE=DURATION:PT1H
X-Robots-Tag:noindex
X-PUBLISHED-TTL:PT1H
BEGIN:VTIMEZONE
TZID:America/Denver
BEGIN:DAYLIGHT
TZOFFSETFROM:-0700
TZOFFSETTO:-0600
TZNAME:MDT
DTSTART:20180311T090000
END:DAYLIGHT
BEGIN:STANDARD
TZOFFSETFROM:-0600
TZOFFSETTO:-0700
TZNAME:MST
DTSTART:20181104T080000
END:STANDARD
BEGIN:DAYLIGHT
TZOFFSETFROM:-0700
TZOFFSETTO:-0600
TZNAME:MDT
DTSTART:20190310T090000
END:DAYLIGHT
BEGIN:STANDARD
TZOFFSETFROM:-0600
TZOFFSETTO:-0700
TZNAME:MST
DTSTART:20191103T080000
END:STANDARD
BEGIN:DAYLIGHT
TZOFFSETFROM:-0700
TZOFFSETTO:-0600
TZNAME:MDT
DTSTART:20200308T090000
END:DAYLIGHT
BEGIN:STANDARD
TZOFFSETFROM:-0600
TZOFFSETTO:-0700
TZNAME:MST
DTSTART:20201101T080000
END:STANDARD
END:VTIMEZONE
BEGIN:VEVENT
DTSTART;TZID=America/Denver:20191121T100000
DTEND;TZID=America/Denver:20191121T114500
DTSTAMP:20260421T084405
CREATED:20191009T024742Z
LAST-MODIFIED:20191030T020757Z
UID:16766-1574330400-1574336700@www.sanjuancitizens.org
SUMMARY:Durango Green Drinks - November
DESCRIPTION:[vc_row type=”in_container” full_screen_row_position=”middle” scene_position=”center” text_color=”dark” text_align=”left” overlay_strength=”0.3″ shape_divider_position=”bottom”][vc_column column_padding=”no-extra-padding” column_padding_position=”all” background_color_opacity=”1″ background_hover_color_opacity=”1″ column_link_target=”_self” column_shadow=”none” column_border_radius=”none” width=”1/1″ tablet_width_inherit=”default” tablet_text_alignment=”default” phone_text_alignment=”default” column_border_width=”none” column_border_style=”solid”][vc_column_text]\nDurango Green Drinks\nThursday\, November 21st\nCarver Brewing Company\n5-6:45pm\nSJCA is proud to sponsor Durango Green Drinks\, a fun\, informal monthly gathering organized by the Sustainability Alliance of SW Colorado. A fantastic group of sustainability-minded local non-profits sponsor the event and rotate hosting responsibilities. October is being hosted by our friends and partners at Mountain Studies Institute and The Wilderness Society. It is a fun and relaxed opportunity to connect\, chat\, network\, and be inspired. Brief announcements are followed by short presentations by host organizations\, which rotates monthly. There is plenty of time to network and catch up with friends. Green Drinks is non-partisan. \nGreen Drinks usually held on the last Thursday of the month in the back room of Carver Brewing Company from 5-6:45 pm\, but in November is a week early to avoid conflicting with Thanksgiving. \nInvite friends and share on Facebook\n\n[/vc_column_text][/vc_column][/vc_row]
URL:https://www.sanjuancitizens.org/event/16766
LOCATION:Carver Brewing Company\, 1022 Main Street\, Durango\, CO\, 81301
CATEGORIES:Events
ATTACH;FMTTYPE=image/jpeg:https://www.sanjuancitizens.org/wp-content/uploads/2019/10/November-2019-Green-Drinks.jpg
END:VEVENT
END:VCALENDAR