BEGIN:VCALENDAR
VERSION:2.0
PRODID:-//San Juan Citizens Alliance - ECPv6.15.20//NONSGML v1.0//EN
CALSCALE:GREGORIAN
METHOD:PUBLISH
X-WR-CALNAME:San Juan Citizens Alliance
X-ORIGINAL-URL:https://www.sanjuancitizens.org
X-WR-CALDESC:Events for San Juan Citizens Alliance
REFRESH-INTERVAL;VALUE=DURATION:PT1H
X-Robots-Tag:noindex
X-PUBLISHED-TTL:PT1H
BEGIN:VTIMEZONE
TZID:America/Denver
BEGIN:DAYLIGHT
TZOFFSETFROM:-0700
TZOFFSETTO:-0600
TZNAME:MDT
DTSTART:20190310T090000
END:DAYLIGHT
BEGIN:STANDARD
TZOFFSETFROM:-0600
TZOFFSETTO:-0700
TZNAME:MST
DTSTART:20191103T080000
END:STANDARD
BEGIN:DAYLIGHT
TZOFFSETFROM:-0700
TZOFFSETTO:-0600
TZNAME:MDT
DTSTART:20200308T090000
END:DAYLIGHT
BEGIN:STANDARD
TZOFFSETFROM:-0600
TZOFFSETTO:-0700
TZNAME:MST
DTSTART:20201101T080000
END:STANDARD
BEGIN:DAYLIGHT
TZOFFSETFROM:-0700
TZOFFSETTO:-0600
TZNAME:MDT
DTSTART:20210314T090000
END:DAYLIGHT
BEGIN:STANDARD
TZOFFSETFROM:-0600
TZOFFSETTO:-0700
TZNAME:MST
DTSTART:20211107T080000
END:STANDARD
END:VTIMEZONE
BEGIN:VEVENT
DTSTART;TZID=America/Denver:20200206T100000
DTEND;TZID=America/Denver:20200206T120000
DTSTAMP:20260420T233219
CREATED:20200128T055612Z
LAST-MODIFIED:20200128T055612Z
UID:17236-1580983200-1580990400@www.sanjuancitizens.org
SUMMARY:Farmington Green Drinks - February
DESCRIPTION:Green Drinks is getting bigger… The last two meetings have brought in more than 25 people and we hope you’ll be a part of this next one in February!  \n\nFarmington Green Drinks!\nThursday\, February 6th\, 5-7 pm\nTraeger’s Bar\n5170 College Blvd. \nFarmington\, NM 87402\n  \n \nGreen Drinks is an informal gathering that allows residents who care about environmental issues in our community get together and share a drink and conversation. It’s a great way to connect\, exchange ideas and get inspired. Green Drinks are hosted in cities and towns all over the world. We hope you can join us! The more the merrier\, so please bring a friend and help us spread the word! \n\nLooking forward to seeing you there!
URL:https://www.sanjuancitizens.org/event/farmington-green-drinks-february
LOCATION:Traeger’s Bar\, 5170 College Blvd\, Farmington\, NM\, 87402
CATEGORIES:Events
ATTACH;FMTTYPE=image/png:https://www.sanjuancitizens.org/wp-content/uploads/2020/01/Feb-Green-Drinks.png
END:VEVENT
END:VCALENDAR