BEGIN:VCALENDAR
VERSION:2.0
PRODID:-//San Juan Citizens Alliance - ECPv6.15.20//NONSGML v1.0//EN
CALSCALE:GREGORIAN
METHOD:PUBLISH
X-ORIGINAL-URL:https://www.sanjuancitizens.org
X-WR-CALDESC:Events for San Juan Citizens Alliance
REFRESH-INTERVAL;VALUE=DURATION:PT1H
X-Robots-Tag:noindex
X-PUBLISHED-TTL:PT1H
BEGIN:VTIMEZONE
TZID:America/Denver
BEGIN:DAYLIGHT
TZOFFSETFROM:-0700
TZOFFSETTO:-0600
TZNAME:MDT
DTSTART:20170312T090000
END:DAYLIGHT
BEGIN:STANDARD
TZOFFSETFROM:-0600
TZOFFSETTO:-0700
TZNAME:MST
DTSTART:20171105T080000
END:STANDARD
BEGIN:DAYLIGHT
TZOFFSETFROM:-0700
TZOFFSETTO:-0600
TZNAME:MDT
DTSTART:20180311T090000
END:DAYLIGHT
BEGIN:STANDARD
TZOFFSETFROM:-0600
TZOFFSETTO:-0700
TZNAME:MST
DTSTART:20181104T080000
END:STANDARD
BEGIN:DAYLIGHT
TZOFFSETFROM:-0700
TZOFFSETTO:-0600
TZNAME:MDT
DTSTART:20190310T090000
END:DAYLIGHT
BEGIN:STANDARD
TZOFFSETFROM:-0600
TZOFFSETTO:-0700
TZNAME:MST
DTSTART:20191103T080000
END:STANDARD
END:VTIMEZONE
BEGIN:VEVENT
DTSTART;TZID=America/Denver:20180818T023000
DTEND;TZID=America/Denver:20180818T103000
DTSTAMP:20260425T094050
CREATED:20180731T030503Z
LAST-MODIFIED:20180731T030503Z
UID:14104-1534559400-1534588200@www.sanjuancitizens.org
SUMMARY:Ice Lakes Day Hike
DESCRIPTION:Photo: Shannon Dizmang \nJoin us and Backcountry Experience for a free day hike to Ice Lake Basin to learn about the history and topography of the region as well as why it’s been included in the San Juan Mountains Wilderness Act. The trail can be challenging with nearly 2\,500 feet elevation gain over 3.5 miles (one way)\, so we recommend all participants be in good physical health and condition. \nSpace is limited. Please RSVP to info@sanjuanctizens.org. \nLearn more about the San Juan Mountains Wilderness Act.
URL:https://www.sanjuancitizens.org/event/ice-lakes-day-hike
LOCATION:Ice Lakes Basin Trailhead\, County Road 7\, South Mineral Trailhead\, Silverton\, CO\, United States
CATEGORIES:Events,Lands Protection
ATTACH;FMTTYPE=image/jpeg:https://www.sanjuancitizens.org/wp-content/uploads/2018/07/Ice_Lakes_Shannon-Dizmang-750.jpg
END:VEVENT
END:VCALENDAR